BEGIN:VCALENDAR
VERSION:2.0
PRODID:-//ViBE Studio - ECPv6.2.1//NONSGML v1.0//EN
CALSCALE:GREGORIAN
METHOD:PUBLISH
X-WR-CALNAME:ViBE Studio
X-ORIGINAL-URL:https://register.vibestudio.ca
X-WR-CALDESC:Events for ViBE Studio
REFRESH-INTERVAL;VALUE=DURATION:PT1H
X-Robots-Tag:noindex
X-PUBLISHED-TTL:PT1H
BEGIN:VTIMEZONE
TZID:America/Toronto
BEGIN:DAYLIGHT
TZOFFSETFROM:-0500
TZOFFSETTO:-0400
TZNAME:EDT
DTSTART:20260308T070000
END:DAYLIGHT
BEGIN:STANDARD
TZOFFSETFROM:-0400
TZOFFSETTO:-0500
TZNAME:EST
DTSTART:20261101T060000
END:STANDARD
END:VTIMEZONE
BEGIN:VEVENT
DTSTART;VALUE=DATE:20260309
DTEND;VALUE=DATE:20260310
DTSTAMP:20260422T220014
CREATED:20250801T125002Z
LAST-MODIFIED:20250801T130158Z
UID:84800-1773014400-1773100799@register.vibestudio.ca
SUMMARY:PA DAY & HOLIDAY CAMP - https://forms.gle/gwADuvMNJZhChUyG6
DESCRIPTION:
URL:https://register.vibestudio.ca/event/pa-day-holiday-camp-https-forms-gle-gwaduvmnjzhchuyg6-20/
END:VEVENT
BEGIN:VEVENT
DTSTART;VALUE=DATE:20260313
DTEND;VALUE=DATE:20260314
DTSTAMP:20260422T220014
CREATED:20250801T130351Z
LAST-MODIFIED:20250801T130351Z
UID:84802-1773360000-1773446399@register.vibestudio.ca
SUMMARY:PA DAY & HOLIDAY CAMP - https://forms.gle/gwADuvMNJZhChUyG6
DESCRIPTION:
URL:https://register.vibestudio.ca/event/pa-day-holiday-camp-https-forms-gle-gwaduvmnjzhchuyg6-21/
END:VEVENT
BEGIN:VEVENT
DTSTART;VALUE=DATE:20260316
DTEND;VALUE=DATE:20260323
DTSTAMP:20260422T220014
CREATED:20250731T152834Z
LAST-MODIFIED:20250731T153113Z
UID:84786-1773619200-1774223999@register.vibestudio.ca
SUMMARY:March Break - Studio is Closed
DESCRIPTION:
URL:https://register.vibestudio.ca/event/march-break-studio-is-closed/
END:VEVENT
BEGIN:VEVENT
DTSTART;VALUE=DATE:20260316
DTEND;VALUE=DATE:20260317
DTSTAMP:20260422T220014
CREATED:20250801T131229Z
LAST-MODIFIED:20250801T131229Z
UID:84804-1773619200-1773705599@register.vibestudio.ca
SUMMARY:March Break Camp - https://forms.gle/gwADuvMNJZhChUyG6
DESCRIPTION:
URL:https://register.vibestudio.ca/event/march-break-camp-https-forms-gle-gwaduvmnjzhchuyg6/
END:VEVENT
BEGIN:VEVENT
DTSTART;VALUE=DATE:20260317
DTEND;VALUE=DATE:20260318
DTSTAMP:20260422T220014
CREATED:20250801T131440Z
LAST-MODIFIED:20250801T131440Z
UID:84806-1773705600-1773791999@register.vibestudio.ca
SUMMARY:March Break Camp - https://forms.gle/gwADuvMNJZhChUyG6
DESCRIPTION:
URL:https://register.vibestudio.ca/event/march-break-camp-https-forms-gle-gwaduvmnjzhchuyg6-2/
END:VEVENT
BEGIN:VEVENT
DTSTART;VALUE=DATE:20260318
DTEND;VALUE=DATE:20260319
DTSTAMP:20260422T220014
CREATED:20250801T131521Z
LAST-MODIFIED:20250801T131521Z
UID:84808-1773792000-1773878399@register.vibestudio.ca
SUMMARY:March Break Camp - https://forms.gle/gwADuvMNJZhChUyG6
DESCRIPTION:
URL:https://register.vibestudio.ca/event/march-break-camp-https-forms-gle-gwaduvmnjzhchuyg6-3/
END:VEVENT
BEGIN:VEVENT
DTSTART;VALUE=DATE:20260319
DTEND;VALUE=DATE:20260320
DTSTAMP:20260422T220014
CREATED:20250801T131615Z
LAST-MODIFIED:20250801T131615Z
UID:84812-1773878400-1773964799@register.vibestudio.ca
SUMMARY:March Break Camp - https://forms.gle/gwADuvMNJZhChUyG6
DESCRIPTION:
URL:https://register.vibestudio.ca/event/march-break-camp-https-forms-gle-gwaduvmnjzhchuyg6-4/
END:VEVENT
BEGIN:VEVENT
DTSTART;VALUE=DATE:20260320
DTEND;VALUE=DATE:20260321
DTSTAMP:20260422T220014
CREATED:20250801T132245Z
LAST-MODIFIED:20250801T132245Z
UID:84815-1773964800-1774051199@register.vibestudio.ca
SUMMARY:March Break Camp - https://forms.gle/gwADuvMNJZhChUyG6
DESCRIPTION:
URL:https://register.vibestudio.ca/event/march-break-camp-https-forms-gle-gwaduvmnjzhchuyg6-5/
END:VEVENT
BEGIN:VEVENT
DTSTART;VALUE=DATE:20260323
DTEND;VALUE=DATE:20260330
DTSTAMP:20260422T220014
CREATED:20250731T152942Z
LAST-MODIFIED:20250731T152942Z
UID:84788-1774224000-1774828799@register.vibestudio.ca
SUMMARY:Cool Outfit Week
DESCRIPTION:
URL:https://register.vibestudio.ca/event/cool-outfit-week/
END:VEVENT
BEGIN:VEVENT
DTSTART;VALUE=DATE:20260323
DTEND;VALUE=DATE:20260330
DTSTAMP:20260422T220014
CREATED:20250731T153235Z
LAST-MODIFIED:20250731T153235Z
UID:84791-1774224000-1774828799@register.vibestudio.ca
SUMMARY:Open Blinds Week
DESCRIPTION:
URL:https://register.vibestudio.ca/event/open-blinds-week-3/
END:VEVENT
BEGIN:VEVENT
DTSTART;VALUE=DATE:20260331
DTEND;VALUE=DATE:20260401
DTSTAMP:20260422T220014
CREATED:20250801T132451Z
LAST-MODIFIED:20250801T132451Z
UID:84817-1774915200-1775001599@register.vibestudio.ca
SUMMARY:Passover Break Camp - https://forms.gle/gwADuvMNJZhChUyG6
DESCRIPTION:
URL:https://register.vibestudio.ca/event/passover-break-camp-https-forms-gle-gwaduvmnjzhchuyg6/
END:VEVENT
BEGIN:VEVENT
DTSTART;VALUE=DATE:20260401
DTEND;VALUE=DATE:20260402
DTSTAMP:20260422T220014
CREATED:20250801T132810Z
LAST-MODIFIED:20250801T132810Z
UID:84820-1775001600-1775087999@register.vibestudio.ca
SUMMARY:Passover Break Camp - https://forms.gle/gwADuvMNJZhChUyG6
DESCRIPTION:
URL:https://register.vibestudio.ca/event/passover-break-camp-https-forms-gle-gwaduvmnjzhchuyg6-2/
END:VEVENT
BEGIN:VEVENT
DTSTART;VALUE=DATE:20260401
DTEND;VALUE=DATE:20260408
DTSTAMP:20260422T220014
CREATED:20250801T135956Z
LAST-MODIFIED:20250801T135956Z
UID:84836-1775001600-1775606399@register.vibestudio.ca
SUMMARY:Passover and Easter - Studio is Closed
DESCRIPTION:
URL:https://register.vibestudio.ca/event/passover-and-easter-studio-is-closed/
END:VEVENT
BEGIN:VEVENT
DTSTART;VALUE=DATE:20260402
DTEND;VALUE=DATE:20260403
DTSTAMP:20260422T220014
CREATED:20250801T135130Z
LAST-MODIFIED:20250801T135130Z
UID:84822-1775088000-1775174399@register.vibestudio.ca
SUMMARY:Passover Break Camp - https://forms.gle/gwADuvMNJZhChUyG6
DESCRIPTION:
URL:https://register.vibestudio.ca/event/passover-break-camp-https-forms-gle-gwaduvmnjzhchuyg6-3/
END:VEVENT
BEGIN:VEVENT
DTSTART;VALUE=DATE:20260403
DTEND;VALUE=DATE:20260404
DTSTAMP:20260422T220014
CREATED:20250801T135244Z
LAST-MODIFIED:20250801T135244Z
UID:84824-1775174400-1775260799@register.vibestudio.ca
SUMMARY:Passover Break Camp - https://forms.gle/gwADuvMNJZhChUyG6
DESCRIPTION:
URL:https://register.vibestudio.ca/event/passover-break-camp-https-forms-gle-gwaduvmnjzhchuyg6-4/
END:VEVENT
BEGIN:VEVENT
DTSTART;VALUE=DATE:20260406
DTEND;VALUE=DATE:20260407
DTSTAMP:20260422T220014
CREATED:20250801T135352Z
LAST-MODIFIED:20250801T135352Z
UID:84826-1775433600-1775519999@register.vibestudio.ca
SUMMARY:Passover Break Camp - https://forms.gle/gwADuvMNJZhChUyG6
DESCRIPTION:
URL:https://register.vibestudio.ca/event/passover-break-camp-https-forms-gle-gwaduvmnjzhchuyg6-5/
END:VEVENT
BEGIN:VEVENT
DTSTART;VALUE=DATE:20260407
DTEND;VALUE=DATE:20260408
DTSTAMP:20260422T220014
CREATED:20250801T135437Z
LAST-MODIFIED:20250801T135437Z
UID:84828-1775520000-1775606399@register.vibestudio.ca
SUMMARY:Passover Break Camp - https://forms.gle/gwADuvMNJZhChUyG6
DESCRIPTION:
URL:https://register.vibestudio.ca/event/passover-break-camp-https-forms-gle-gwaduvmnjzhchuyg6-6/
END:VEVENT
BEGIN:VEVENT
DTSTART;VALUE=DATE:20260408
DTEND;VALUE=DATE:20260409
DTSTAMP:20260422T220014
CREATED:20250801T135617Z
LAST-MODIFIED:20250801T135617Z
UID:84832-1775606400-1775692799@register.vibestudio.ca
SUMMARY:Passover Break Camp - https://forms.gle/gwADuvMNJZhChUyG6
DESCRIPTION:
URL:https://register.vibestudio.ca/event/passover-break-camp-https-forms-gle-gwaduvmnjzhchuyg6-8/
END:VEVENT
BEGIN:VEVENT
DTSTART;VALUE=DATE:20260409
DTEND;VALUE=DATE:20260410
DTSTAMP:20260422T220014
CREATED:20250801T135519Z
LAST-MODIFIED:20250801T135519Z
UID:84830-1775692800-1775779199@register.vibestudio.ca
SUMMARY:Passover Break Camp - https://forms.gle/gwADuvMNJZhChUyG6
DESCRIPTION:
URL:https://register.vibestudio.ca/event/passover-break-camp-https-forms-gle-gwaduvmnjzhchuyg6-7/
END:VEVENT
BEGIN:VEVENT
DTSTART;VALUE=DATE:20260410
DTEND;VALUE=DATE:20260411
DTSTAMP:20260422T220014
CREATED:20250801T135758Z
LAST-MODIFIED:20250801T135758Z
UID:84834-1775779200-1775865599@register.vibestudio.ca
SUMMARY:Passover Break Camp - https://forms.gle/gwADuvMNJZhChUyG6
DESCRIPTION:
URL:https://register.vibestudio.ca/event/passover-break-camp-https-forms-gle-gwaduvmnjzhchuyg6-9/
END:VEVENT
BEGIN:VEVENT
DTSTART;VALUE=DATE:20260502
DTEND;VALUE=DATE:20260508
DTSTAMP:20260422T220014
CREATED:20250801T140253Z
LAST-MODIFIED:20250801T140253Z
UID:84838-1777680000-1778198399@register.vibestudio.ca
SUMMARY:Blinds Open Week
DESCRIPTION:
URL:https://register.vibestudio.ca/event/blinds-open-week-4/
END:VEVENT
BEGIN:VEVENT
DTSTART;VALUE=DATE:20260504
DTEND;VALUE=DATE:20260505
DTSTAMP:20260422T220014
CREATED:20250801T141046Z
LAST-MODIFIED:20250801T141046Z
UID:84849-1777852800-1777939199@register.vibestudio.ca
SUMMARY:PA DAY & HOLIDAY CAMP - https://forms.gle/gwADuvMNJZhChUyG6
DESCRIPTION:
URL:https://register.vibestudio.ca/event/pa-day-holiday-camp-https-forms-gle-gwaduvmnjzhchuyg6-22/
END:VEVENT
BEGIN:VEVENT
DTSTART;VALUE=DATE:20260505
DTEND;VALUE=DATE:20260506
DTSTAMP:20260422T220014
CREATED:20250801T140401Z
LAST-MODIFIED:20250801T140434Z
UID:84840-1777939200-1778025599@register.vibestudio.ca
SUMMARY:Recital Tickets Sale @ 1pm
DESCRIPTION:
URL:https://register.vibestudio.ca/event/recital-tickers-sale-1pm/
END:VEVENT
BEGIN:VEVENT
DTSTART;VALUE=DATE:20260516
DTEND;VALUE=DATE:20260519
DTSTAMP:20260422T220014
CREATED:20250801T140552Z
LAST-MODIFIED:20250801T140552Z
UID:84843-1778889600-1779148799@register.vibestudio.ca
SUMMARY:Victoria Day Weekend - Studio Closed
DESCRIPTION:
URL:https://register.vibestudio.ca/event/victoria-day-weekend-studio-closed/
END:VEVENT
BEGIN:VEVENT
DTSTART;VALUE=DATE:20260522
DTEND;VALUE=DATE:20260523
DTSTAMP:20260422T220014
CREATED:20250801T141146Z
LAST-MODIFIED:20250801T141146Z
UID:84851-1779408000-1779494399@register.vibestudio.ca
SUMMARY:PA DAY & HOLIDAY CAMP - https://forms.gle/gwADuvMNJZhChUyG6
DESCRIPTION:
URL:https://register.vibestudio.ca/event/pa-day-holiday-camp-https-forms-gle-gwaduvmnjzhchuyg6-23/
END:VEVENT
BEGIN:VEVENT
DTSTART;VALUE=DATE:20260523
DTEND;VALUE=DATE:20260529
DTSTAMP:20260422T220014
CREATED:20250801T140731Z
LAST-MODIFIED:20250801T140731Z
UID:84845-1779494400-1780012799@register.vibestudio.ca
SUMMARY:Last Week of Classes
DESCRIPTION:
URL:https://register.vibestudio.ca/event/last-week-of-classes/
END:VEVENT
BEGIN:VEVENT
DTSTART;VALUE=DATE:20260530
DTEND;VALUE=DATE:20260601
DTSTAMP:20260422T220014
CREATED:20250801T140848Z
LAST-MODIFIED:20250801T140848Z
UID:84847-1780099200-1780271999@register.vibestudio.ca
SUMMARY:ViBE Year-End Recitals
DESCRIPTION:
URL:https://register.vibestudio.ca/event/vibe-year-end-recitals/
END:VEVENT
BEGIN:VEVENT
DTSTART;VALUE=DATE:20260605
DTEND;VALUE=DATE:20260606
DTSTAMP:20260422T220014
CREATED:20250801T141237Z
LAST-MODIFIED:20250801T141237Z
UID:84853-1780617600-1780703999@register.vibestudio.ca
SUMMARY:PA DAY & HOLIDAY CAMP - https://forms.gle/gwADuvMNJZhChUyG6
DESCRIPTION:
URL:https://register.vibestudio.ca/event/pa-day-holiday-camp-https-forms-gle-gwaduvmnjzhchuyg6-24/
END:VEVENT
BEGIN:VEVENT
DTSTART;VALUE=DATE:20260624
DTEND;VALUE=DATE:20260625
DTSTAMP:20260422T220014
CREATED:20250801T141438Z
LAST-MODIFIED:20250801T141438Z
UID:84855-1782259200-1782345599@register.vibestudio.ca
SUMMARY:PA DAY & HOLIDAY CAMP - https://forms.gle/gwADuvMNJZhChUyG6
DESCRIPTION:
URL:https://register.vibestudio.ca/event/pa-day-holiday-camp-https-forms-gle-gwaduvmnjzhchuyg6-25/
END:VEVENT
BEGIN:VEVENT
DTSTART;VALUE=DATE:20260625
DTEND;VALUE=DATE:20260626
DTSTAMP:20260422T220014
CREATED:20250801T141602Z
LAST-MODIFIED:20250801T141602Z
UID:84859-1782345600-1782431999@register.vibestudio.ca
SUMMARY:PA DAY & HOLIDAY CAMP - https://forms.gle/gwADuvMNJZhChUyG6
DESCRIPTION:
URL:https://register.vibestudio.ca/event/pa-day-holiday-camp-https-forms-gle-gwaduvmnjzhchuyg6-27/
END:VEVENT
END:VCALENDAR